BEGIN:VCALENDAR
VERSION:2.0
PRODID:-//JANESDANCINGHANDS.COM - ECPv6.15.20//NONSGML v1.0//EN
CALSCALE:GREGORIAN
METHOD:PUBLISH
X-WR-CALNAME:JANESDANCINGHANDS.COM
X-ORIGINAL-URL:https://old2.janesibbett.com
X-WR-CALDESC:Events for JANESDANCINGHANDS.COM
REFRESH-INTERVAL;VALUE=DURATION:PT1H
X-Robots-Tag:noindex
X-PUBLISHED-TTL:PT1H
BEGIN:VTIMEZONE
TZID:America/Los_Angeles
BEGIN:DAYLIGHT
TZOFFSETFROM:-0800
TZOFFSETTO:-0700
TZNAME:PDT
DTSTART:20180311T100000
END:DAYLIGHT
BEGIN:STANDARD
TZOFFSETFROM:-0700
TZOFFSETTO:-0800
TZNAME:PST
DTSTART:20181104T090000
END:STANDARD
BEGIN:DAYLIGHT
TZOFFSETFROM:-0800
TZOFFSETTO:-0700
TZNAME:PDT
DTSTART:20190310T100000
END:DAYLIGHT
BEGIN:STANDARD
TZOFFSETFROM:-0700
TZOFFSETTO:-0800
TZNAME:PST
DTSTART:20191103T090000
END:STANDARD
BEGIN:DAYLIGHT
TZOFFSETFROM:-0800
TZOFFSETTO:-0700
TZNAME:PDT
DTSTART:20200308T100000
END:DAYLIGHT
BEGIN:STANDARD
TZOFFSETFROM:-0700
TZOFFSETTO:-0800
TZNAME:PST
DTSTART:20201101T090000
END:STANDARD
BEGIN:DAYLIGHT
TZOFFSETFROM:-0800
TZOFFSETTO:-0700
TZNAME:PDT
DTSTART:20210314T100000
END:DAYLIGHT
BEGIN:STANDARD
TZOFFSETFROM:-0700
TZOFFSETTO:-0800
TZNAME:PST
DTSTART:20211107T090000
END:STANDARD
END:VTIMEZONE
BEGIN:VEVENT
DTSTART;TZID=America/Los_Angeles:20200216T133000
DTEND;TZID=America/Los_Angeles:20200216T153000
DTSTAMP:20260423T134340
CREATED:20170212T033236Z
LAST-MODIFIED:20191222T204812Z
UID:4484-1581859800-1581867000@old2.janesibbett.com
SUMMARY:Jane's Dancing Hands New Circle - Longview\, WA
DESCRIPTION:  \nJane Sibbett and the gift that flows through her dancing hands from purest Source Energy returns to Longview\, WA. \nOne doesn’t need to be able to dance to attend\, but many are moved to dance with pure Source/God/Creator/All-That-Is when Jane opens her heart and hands in service to the best and highest good for each participant and the group as a whole. \nThis is not a lecture of how-to connect with the sacred or Source energy but a full mind\, body\, spirit and emotion immersion into all that can be for each of us. \nYou may dance\, sway\, move\, groove\, or lie down\,  You may be moved to sit\, or sing\, or just be. \nLast time our venue was full\, so please consider getting your tickets in advance. \nIf you don’t like online shopping\, please come to the door prepared with your ticket payment (check or cash only) in a envelope with your name\, email address and phone number on it for easy check-in. \nFor your comfort\, please dress in clothes to move (i.e.\, yoga pants\, sweats\, no shoes)\, bring a yoga mat or a blanket and a pillow to eventually lie upon\, and a water bottle. \n \nPlease\, no animals in this space unless they are truly a service dog you need there for your mobility and safety.  Children are welcome\, but please consider their comfort in the energy as well as your respect of other ticketed participants.  Thank you ahead of time for understanding we create a sacred space together and hope all come with the heart and focus for not just one’s own individual best and highest good\, but that of the entire group. \nCLICK HERE TO ATTEND DANCING HANDS CIRCLE!
URL:https://old2.janesibbett.com/event/janes-dancing-hands-new-circle-longview-wa/
LOCATION:Holos Yoga\, 1338 Commerce Ave\, Longview\, WA\, 98632\, United States
CATEGORIES:Jane's Dancing Hands Circle
END:VEVENT
BEGIN:VEVENT
DTSTART;TZID=America/Los_Angeles:20200215T153000
DTEND;TZID=America/Los_Angeles:20200215T170000
DTSTAMP:20260423T134340
CREATED:20171026T191725Z
LAST-MODIFIED:20191222T201634Z
UID:6624-1581780600-1581786000@old2.janesibbett.com
SUMMARY:Jane's Dancing Hands Quanta Circle - Vancouver\, BC
DESCRIPTION:This JDH Quanta Circle – a singular Quanta Circle of 7 – 10 people invites the same depth of work with purest Source energy in a concentrated experience while Jane is on the road or on tour.  Collaborators of the Concentrated Quanta are invited to bring their written intentions\, share or not share with the Circle\, and dive into the Dancing Hands Circle of a more intimate size and nature.  There is again a final sharing of the experience and in this community which is quickly built with purest Source Energy\, a solid and fluid foundation of kindred hearts is established — growing the work not only of private experiences with Source energy\, but carrying the light of self-healing and global light-bearing forward in a way of expanding potential together.  This is an exciting outgrowth for those who have loved their circle work and private sessions and wish to work even more intimately with the Dancing Hands/purest Source Energy experience. \n  \nCLICK HERE TO ATTEND DANCING HANDS CIRCLE!
URL:https://old2.janesibbett.com/event/janes-dancing-hands-quanta-circle-vancouver-bc/
LOCATION:One Thousand Rivers\, 54 East 4th Ave. 2nd floor\, Vancouver\, BC\, V5T1E8\, Canada
CATEGORIES:Jane's Dancing Hands Circle,Jane's Dancing Hands Quanta Circle
END:VEVENT
BEGIN:VEVENT
DTSTART;TZID=America/Los_Angeles:20200215T130000
DTEND;TZID=America/Los_Angeles:20200215T150000
DTSTAMP:20260423T134340
CREATED:20171026T192739Z
LAST-MODIFIED:20191222T205325Z
UID:6631-1581771600-1581778800@old2.janesibbett.com
SUMMARY:Jane's Dancing Hands Circle - Vancouver\, BC
DESCRIPTION:Jane’s Dancing Hands Circle and the gift that flows through Jane’s dancing hands from purest Source Energy finally comes to beautiful winter wonderland in Canada! You don’t need to be a dancer to join\, but you may wish to dance… or lie down\, or sit\, or sing\, or just be  — Jane and her hands are danced by Source energy — but you may want to dance along\, too. The Dancing Hands Circle is for all. \nWe are offering Jane’s Dancing Hands Circle and Quanta Circle\, and we are also offering very limited number of private sessions. \nFor more info about Quanta Circles\, please click HERE (please note that Quanta is limited to 10 participants) \nFrom one of our hosts: THIS is something truly unique that is making a huge difference in the lives of people everywhere. Men and women are invited. You don’t have to be a dancer or even dance to experience the benefits. Some people simply sit or stand and receive what’s moving through her dancing hands\, which can offer immediate comfort\, peace\, joy and harmony. Come\, you’ll be really happy you did! I’ve seen so many people at these circles leave feeling more vibrant\, healthy\, and peaceful! \nPlease bring a yoga mat or blanket on which to sit and/or lie down at the end\, (if you are physically able)\, and dress comfortably. Jane is barefoot and you may wish to be the same or in socks. Please also bring a water bottle so you can stay hydrated. \nWe encourage you to get your tickets ahead of time as they go up at the door. If you don’t like online shopping\, please come to door with your ticket payment (check or cash only) in a sealed envelope with your name\, email address and phone number on it for easy check-in. \nCLICK HERE TO ATTEND DANCING HANDS CIRCLE! \nIF YOU ALSO WISH TO ATTEND JANE’S DANCING HANDS QUANTA CIRCLE PLEASE CLICK HERE
URL:https://old2.janesibbett.com/event/janes-dancing-hands-circle-vancouver-bc/
LOCATION:One Thousand Rivers\, 54 East 4th Ave. 2nd floor\, Vancouver\, BC\, V5T1E8\, Canada
CATEGORIES:Jane's Dancing Hands Circle
END:VEVENT
BEGIN:VEVENT
DTSTART;TZID=America/Los_Angeles:20200103T090000
DTEND;TZID=America/Los_Angeles:20200103T093000
DTSTAMP:20260423T134340
CREATED:20200103T115544Z
LAST-MODIFIED:20200103T120626Z
UID:6438-1578042000-1578043800@old2.janesibbett.com
SUMMARY:Jane’s Dancing Hands Happy 2020 - 7 Days of Spontaneous Circles via Zoom
DESCRIPTION:  \nWant to join or have questions? Check out the pre-Zoom info page with a checklist on janesdancinghands.com: https://old2.janesibbett.com/janes-zoom-dancing-hands-circle-attendee-pre-session-checklist/ \nWhat is Zoom? Like Skype\, it is an app where we can all very simply interact with a group of up to 50\, 100\, or even 500 at once online. So not only may we have a dancing hands circle together\, but we can also share before\, during\, and after\, take questions\, clarify\, and chat via text or your computer or phone’s built-in microphones\, too. \nMany have shared testimonials from the Zoom sessions that include everything from deep and long-lasting peace to pain disappearing\, or even clarity coming to previously complicated issues. \nEmail Jane at janel@old2.janesibbett.com and she’ll send you instructions about the app and how to join. \nClick here to get your ticket!\nOnce you purchase your ticket\, look for a purchase confirmation email from us which will have your link and password to zoom circle. Sometimes those emails end up in your spam/junk folder\, please check those too! \nPLEASE add jane@old2.janesibbett.com email to your contact list so your newsletter and/or your ticket confirmation doesn’t go right into your junk mail.
URL:https://old2.janesibbett.com/event/happy2020spontaneouscircle/
LOCATION:Anywhere you are!
CATEGORIES:Jane's Dancing Hands Circle,Jane's Dancing Hands FREE Zoom Circle
END:VEVENT
BEGIN:VEVENT
DTSTART;TZID=America/Los_Angeles:20191208T130000
DTEND;TZID=America/Los_Angeles:20191208T160000
DTSTAMP:20260423T134340
CREATED:20190425T165350Z
LAST-MODIFIED:20191121T033021Z
UID:9681-1575810000-1575820800@old2.janesibbett.com
SUMMARY:Jane's Dancing Hands at the Expo
DESCRIPTION:Experience Jane’s Dancing Hands at the Expo in Sacramento. This event takes place in the Magnolia Room at the Crowne Plaza Sacramento Northeast. Two Circle options: \nJDH Circle 1-2:45pm tickets here JDH Sacramento Expo Circle \nJDH Quanta circle 3-4pm tickets here JDH Sacramento Expo Quanta Circle \nGet your Expo ticket ahead of time for free https://www.newearthevents.com/Sacramento \nJoin Jane at 10am for free opening ceremony!
URL:https://old2.janesibbett.com/event/janes-dancing-hands-at-the-expo/
LOCATION:Crowne Plaza\, Date Avenue\, Sacramento\, CA\, 95841\, United States
CATEGORIES:Jane's Dancing Hands Circle,Jane's Dancing Hands Quanta Circle
END:VEVENT
END:VCALENDAR